BEGIN:VCALENDAR
VERSION:2.0
PRODID:-//Hand to Hold - ECPv6.15.11//NONSGML v1.0//EN
CALSCALE:GREGORIAN
METHOD:PUBLISH
X-ORIGINAL-URL:https://handtohold.org
X-WR-CALDESC:Events for Hand to Hold
REFRESH-INTERVAL;VALUE=DURATION:PT1H
X-Robots-Tag:noindex
X-PUBLISHED-TTL:PT1H
BEGIN:VTIMEZONE
TZID:America/Chicago
BEGIN:DAYLIGHT
TZOFFSETFROM:-0600
TZOFFSETTO:-0500
TZNAME:CDT
DTSTART:20220313T080000
END:DAYLIGHT
BEGIN:STANDARD
TZOFFSETFROM:-0500
TZOFFSETTO:-0600
TZNAME:CST
DTSTART:20221106T070000
END:STANDARD
BEGIN:DAYLIGHT
TZOFFSETFROM:-0600
TZOFFSETTO:-0500
TZNAME:CDT
DTSTART:20230312T080000
END:DAYLIGHT
BEGIN:STANDARD
TZOFFSETFROM:-0500
TZOFFSETTO:-0600
TZNAME:CST
DTSTART:20231105T070000
END:STANDARD
BEGIN:DAYLIGHT
TZOFFSETFROM:-0600
TZOFFSETTO:-0500
TZNAME:CDT
DTSTART:20240310T080000
END:DAYLIGHT
BEGIN:STANDARD
TZOFFSETFROM:-0500
TZOFFSETTO:-0600
TZNAME:CST
DTSTART:20241103T070000
END:STANDARD
END:VTIMEZONE
BEGIN:VEVENT
DTSTART;TZID=America/Chicago:20231221T120000
DTEND;TZID=America/Chicago:20231221T133000
DTSTAMP:20260420T144629
CREATED:20231026T155944Z
LAST-MODIFIED:20231127T163343Z
UID:10001438-1703160000-1703165400@handtohold.org
SUMMARY:High-Risk Pregnancy Support Group
DESCRIPTION:This support group is for moms and mothers-to-be who may have increased health risks during pregnancy. You or your baby may have a health condition or diagnosis that puts you at a higher risk for an early or more specialized delivery.\nREGISTER HERE\n 
URL:https://handtohold.org/calendar/high-risk-pregnancy-support-group-2/2023-12-21/
CATEGORIES:Support Group
ATTACH;FMTTYPE=image/png:https://handtohold.org/wp-content/uploads/2022/08/SUPPORT-GROUP-event-photo-3.png
END:VEVENT
BEGIN:VEVENT
DTSTART;TZID=America/Chicago:20231221T130000
DTEND;TZID=America/Chicago:20231221T143000
DTSTAMP:20260420T144629
CREATED:20231204T175637Z
LAST-MODIFIED:20231204T175637Z
UID:10001483-1703163600-1703169000@handtohold.org
SUMMARY:Love & Loss Support Group for Bereaved Parents
DESCRIPTION:A support group for those who have experienced a loss in the NICU or after a NICU stay.\nRegister here
URL:https://handtohold.org/calendar/love-loss-support-group-for-bereaved-parents-5/2023-12-21/
CATEGORIES:Support Group
ATTACH;FMTTYPE=image/png:https://handtohold.org/wp-content/uploads/2022/08/SUPPORT-GROUP-event-photo.png
END:VEVENT
END:VCALENDAR