BEGIN:VCALENDAR
VERSION:2.0
PRODID:-//Hand to Hold - ECPv6.15.11//NONSGML v1.0//EN
CALSCALE:GREGORIAN
METHOD:PUBLISH
X-ORIGINAL-URL:https://handtohold.org
X-WR-CALDESC:Events for Hand to Hold
REFRESH-INTERVAL;VALUE=DURATION:PT1H
X-Robots-Tag:noindex
X-PUBLISHED-TTL:PT1H
BEGIN:VTIMEZONE
TZID:America/Chicago
BEGIN:DAYLIGHT
TZOFFSETFROM:-0600
TZOFFSETTO:-0500
TZNAME:CDT
DTSTART:20240310T080000
END:DAYLIGHT
BEGIN:STANDARD
TZOFFSETFROM:-0500
TZOFFSETTO:-0600
TZNAME:CST
DTSTART:20241103T070000
END:STANDARD
BEGIN:DAYLIGHT
TZOFFSETFROM:-0600
TZOFFSETTO:-0500
TZNAME:CDT
DTSTART:20250309T080000
END:DAYLIGHT
BEGIN:STANDARD
TZOFFSETFROM:-0500
TZOFFSETTO:-0600
TZNAME:CST
DTSTART:20251102T070000
END:STANDARD
BEGIN:DAYLIGHT
TZOFFSETFROM:-0600
TZOFFSETTO:-0500
TZNAME:CDT
DTSTART:20260308T080000
END:DAYLIGHT
BEGIN:STANDARD
TZOFFSETFROM:-0500
TZOFFSETTO:-0600
TZNAME:CST
DTSTART:20261101T070000
END:STANDARD
END:VTIMEZONE
BEGIN:VEVENT
DTSTART;VALUE=DATE:20250329
DTEND;VALUE=DATE:20250330
DTSTAMP:20260420T231938
CREATED:20250115T183845Z
LAST-MODIFIED:20250115T183851Z
UID:10002148-1743206400-1743292799@handtohold.org
SUMMARY:2025 Pickleball Classic
DESCRIPTION:Show off your skills on the court\, cheer for your friends\, and enjoy an afternoon filled with exciting matches and friendly competition at what will be the most unique pickleball venue in the Hill Country! \n			\n				SIGN UP!
URL:https://handtohold.org/calendar/2025-pickleball-classic/
LOCATION:Panoramic Pickleball Academy\, 25603 Red Brangus Road\, Spicewood\, TX\, 78669\, United States
ATTACH;FMTTYPE=image/png:https://handtohold.org/wp-content/uploads/2025/01/Event-calendar-photos.png
END:VEVENT
END:VCALENDAR