BEGIN:VCALENDAR
VERSION:2.0
PRODID:-//Hand to Hold - ECPv6.15.11//NONSGML v1.0//EN
CALSCALE:GREGORIAN
METHOD:PUBLISH
X-WR-CALNAME:Hand to Hold
X-ORIGINAL-URL:https://handtohold.org
X-WR-CALDESC:Events for Hand to Hold
REFRESH-INTERVAL;VALUE=DURATION:PT1H
X-Robots-Tag:noindex
X-PUBLISHED-TTL:PT1H
BEGIN:VTIMEZONE
TZID:America/Chicago
BEGIN:DAYLIGHT
TZOFFSETFROM:-0600
TZOFFSETTO:-0500
TZNAME:CDT
DTSTART:20240310T080000
END:DAYLIGHT
BEGIN:STANDARD
TZOFFSETFROM:-0500
TZOFFSETTO:-0600
TZNAME:CST
DTSTART:20241103T070000
END:STANDARD
BEGIN:DAYLIGHT
TZOFFSETFROM:-0600
TZOFFSETTO:-0500
TZNAME:CDT
DTSTART:20250309T080000
END:DAYLIGHT
BEGIN:STANDARD
TZOFFSETFROM:-0500
TZOFFSETTO:-0600
TZNAME:CST
DTSTART:20251102T070000
END:STANDARD
BEGIN:DAYLIGHT
TZOFFSETFROM:-0600
TZOFFSETTO:-0500
TZNAME:CDT
DTSTART:20260308T080000
END:DAYLIGHT
BEGIN:STANDARD
TZOFFSETFROM:-0500
TZOFFSETTO:-0600
TZNAME:CST
DTSTART:20261101T070000
END:STANDARD
BEGIN:DAYLIGHT
TZOFFSETFROM:-0600
TZOFFSETTO:-0500
TZNAME:CDT
DTSTART:20270314T080000
END:DAYLIGHT
BEGIN:STANDARD
TZOFFSETFROM:-0500
TZOFFSETTO:-0600
TZNAME:CST
DTSTART:20271107T070000
END:STANDARD
END:VTIMEZONE
BEGIN:VEVENT
DTSTART;TZID=America/Chicago:20260326T170000
DTEND;TZID=America/Chicago:20260326T180000
DTSTAMP:20260421T131303
CREATED:20250225T154735Z
LAST-MODIFIED:20260114T155539Z
UID:10002636-1774544400-1774548000@handtohold.org
SUMMARY:Love & Loss Support Group for Bereaved Parents
DESCRIPTION:A support group for families who have experienced a bereavement in the NICU or after a NICU stay. We also welcome parents whose baby has been referred to palliative and/or hospice care.\n			\n				Register here
URL:https://handtohold.org/calendar/love-loss-support-group-for-bereaved-parents-7-2-2/2026-03-26/
CATEGORIES:Bereavement,Support Group
ATTACH;FMTTYPE=image/png:https://handtohold.org/wp-content/uploads/2022/08/SUPPORT-GROUP-event-photo.png
LOCATION:
END:VEVENT
BEGIN:VEVENT
DTSTART;TZID=America/Chicago:20260226T170000
DTEND;TZID=America/Chicago:20260226T180000
DTSTAMP:20260421T131303
CREATED:20250225T154735Z
LAST-MODIFIED:20260114T155539Z
UID:10002635-1772125200-1772128800@handtohold.org
SUMMARY:Love & Loss Support Group for Bereaved Parents
DESCRIPTION:A support group for families who have experienced a bereavement in the NICU or after a NICU stay. We also welcome parents whose baby has been referred to palliative and/or hospice care.\n			\n				Register here
URL:https://handtohold.org/calendar/love-loss-support-group-for-bereaved-parents-7-2-2/2026-02-26/
CATEGORIES:Bereavement,Support Group
ATTACH;FMTTYPE=image/png:https://handtohold.org/wp-content/uploads/2022/08/SUPPORT-GROUP-event-photo.png
LOCATION:
END:VEVENT
BEGIN:VEVENT
DTSTART;TZID=America/Chicago:20260122T170000
DTEND;TZID=America/Chicago:20260122T180000
DTSTAMP:20260421T131303
CREATED:20250225T154735Z
LAST-MODIFIED:20260114T155539Z
UID:10002634-1769101200-1769104800@handtohold.org
SUMMARY:Love & Loss Support Group for Bereaved Parents
DESCRIPTION:A support group for families who have experienced a bereavement in the NICU or after a NICU stay. We also welcome parents whose baby has been referred to palliative and/or hospice care.\n			\n				Register here
URL:https://handtohold.org/calendar/love-loss-support-group-for-bereaved-parents-7-2-2/2026-01-22/
CATEGORIES:Bereavement,Support Group
ATTACH;FMTTYPE=image/png:https://handtohold.org/wp-content/uploads/2022/08/SUPPORT-GROUP-event-photo.png
LOCATION:
END:VEVENT
BEGIN:VEVENT
DTSTART;TZID=America/Chicago:20251218T170000
DTEND;TZID=America/Chicago:20251218T180000
DTSTAMP:20260421T131303
CREATED:20250225T154735Z
LAST-MODIFIED:20260114T155539Z
UID:10002584-1766077200-1766080800@handtohold.org
SUMMARY:Love & Loss Support Group for Bereaved Parents
DESCRIPTION:A support group for families who have experienced a bereavement in the NICU or after a NICU stay. We also welcome parents whose baby has been referred to palliative and/or hospice care.\n			\n				Register here
URL:https://handtohold.org/calendar/love-loss-support-group-for-bereaved-parents-7-2-2/2025-12-18/
CATEGORIES:Bereavement,Support Group
ATTACH;FMTTYPE=image/png:https://handtohold.org/wp-content/uploads/2022/08/SUPPORT-GROUP-event-photo.png
LOCATION:
END:VEVENT
BEGIN:VEVENT
DTSTART;TZID=America/Chicago:20251120T170000
DTEND;TZID=America/Chicago:20251120T180000
DTSTAMP:20260421T131303
CREATED:20250225T154735Z
LAST-MODIFIED:20260114T155539Z
UID:10002403-1763658000-1763661600@handtohold.org
SUMMARY:Love & Loss Support Group for Bereaved Parents
DESCRIPTION:A support group for families who have experienced a bereavement in the NICU or after a NICU stay. We also welcome parents whose baby has been referred to palliative and/or hospice care.\n			\n				Register here
URL:https://handtohold.org/calendar/love-loss-support-group-for-bereaved-parents-7-2-2/2025-11-20/
CATEGORIES:Bereavement,Support Group
ATTACH;FMTTYPE=image/png:https://handtohold.org/wp-content/uploads/2022/08/SUPPORT-GROUP-event-photo.png
LOCATION:
END:VEVENT
BEGIN:VEVENT
DTSTART;TZID=America/Chicago:20251023T170000
DTEND;TZID=America/Chicago:20251023T180000
DTSTAMP:20260421T131303
CREATED:20250225T154735Z
LAST-MODIFIED:20260114T155539Z
UID:10002169-1761238800-1761242400@handtohold.org
SUMMARY:Love & Loss Support Group for Bereaved Parents
DESCRIPTION:A support group for families who have experienced a bereavement in the NICU or after a NICU stay. We also welcome parents whose baby has been referred to palliative and/or hospice care.\n			\n				Register here
URL:https://handtohold.org/calendar/love-loss-support-group-for-bereaved-parents-7-2-2/2025-10-23/
CATEGORIES:Bereavement,Support Group
ATTACH;FMTTYPE=image/png:https://handtohold.org/wp-content/uploads/2022/08/SUPPORT-GROUP-event-photo.png
LOCATION:
END:VEVENT
BEGIN:VEVENT
DTSTART;TZID=America/Chicago:20250925T170000
DTEND;TZID=America/Chicago:20250925T180000
DTSTAMP:20260421T131303
CREATED:20250225T154735Z
LAST-MODIFIED:20260114T155539Z
UID:10002168-1758819600-1758823200@handtohold.org
SUMMARY:Love & Loss Support Group for Bereaved Parents
DESCRIPTION:A support group for families who have experienced a bereavement in the NICU or after a NICU stay. We also welcome parents whose baby has been referred to palliative and/or hospice care.\n			\n				Register here
URL:https://handtohold.org/calendar/love-loss-support-group-for-bereaved-parents-7-2-2/2025-09-25/
CATEGORIES:Bereavement,Support Group
ATTACH;FMTTYPE=image/png:https://handtohold.org/wp-content/uploads/2022/08/SUPPORT-GROUP-event-photo.png
LOCATION:
END:VEVENT
BEGIN:VEVENT
DTSTART;TZID=America/Chicago:20250828T170000
DTEND;TZID=America/Chicago:20250828T180000
DTSTAMP:20260421T131303
CREATED:20250225T154735Z
LAST-MODIFIED:20260114T155539Z
UID:10002167-1756400400-1756404000@handtohold.org
SUMMARY:Love & Loss Support Group for Bereaved Parents
DESCRIPTION:A support group for families who have experienced a bereavement in the NICU or after a NICU stay. We also welcome parents whose baby has been referred to palliative and/or hospice care.\n			\n				Register here
URL:https://handtohold.org/calendar/love-loss-support-group-for-bereaved-parents-7-2-2/2025-08-28/
CATEGORIES:Bereavement,Support Group
ATTACH;FMTTYPE=image/png:https://handtohold.org/wp-content/uploads/2022/08/SUPPORT-GROUP-event-photo.png
LOCATION:
END:VEVENT
BEGIN:VEVENT
DTSTART;TZID=America/Chicago:20250724T170000
DTEND;TZID=America/Chicago:20250724T180000
DTSTAMP:20260421T131303
CREATED:20250225T154735Z
LAST-MODIFIED:20260114T155539Z
UID:10002166-1753376400-1753380000@handtohold.org
SUMMARY:Love & Loss Support Group for Bereaved Parents
DESCRIPTION:A support group for families who have experienced a bereavement in the NICU or after a NICU stay. We also welcome parents whose baby has been referred to palliative and/or hospice care.\n			\n				Register here
URL:https://handtohold.org/calendar/love-loss-support-group-for-bereaved-parents-7-2-2/2025-07-24/
CATEGORIES:Bereavement,Support Group
ATTACH;FMTTYPE=image/png:https://handtohold.org/wp-content/uploads/2022/08/SUPPORT-GROUP-event-photo.png
LOCATION:
END:VEVENT
BEGIN:VEVENT
DTSTART;TZID=America/Chicago:20250626T170000
DTEND;TZID=America/Chicago:20250626T180000
DTSTAMP:20260421T131303
CREATED:20250225T154735Z
LAST-MODIFIED:20260114T155539Z
UID:10002165-1750957200-1750960800@handtohold.org
SUMMARY:Love & Loss Support Group for Bereaved Parents
DESCRIPTION:A support group for families who have experienced a bereavement in the NICU or after a NICU stay. We also welcome parents whose baby has been referred to palliative and/or hospice care.\n			\n				Register here
URL:https://handtohold.org/calendar/love-loss-support-group-for-bereaved-parents-7-2-2/2025-06-26/
CATEGORIES:Bereavement,Support Group
ATTACH;FMTTYPE=image/png:https://handtohold.org/wp-content/uploads/2022/08/SUPPORT-GROUP-event-photo.png
LOCATION:
END:VEVENT
BEGIN:VEVENT
DTSTART;TZID=America/Chicago:20250522T170000
DTEND;TZID=America/Chicago:20250522T180000
DTSTAMP:20260421T131303
CREATED:20250225T154735Z
LAST-MODIFIED:20260114T155539Z
UID:10002164-1747933200-1747936800@handtohold.org
SUMMARY:Love & Loss Support Group for Bereaved Parents
DESCRIPTION:A support group for families who have experienced a bereavement in the NICU or after a NICU stay. We also welcome parents whose baby has been referred to palliative and/or hospice care.\n			\n				Register here
URL:https://handtohold.org/calendar/love-loss-support-group-for-bereaved-parents-7-2-2/2025-05-22/
CATEGORIES:Bereavement,Support Group
ATTACH;FMTTYPE=image/png:https://handtohold.org/wp-content/uploads/2022/08/SUPPORT-GROUP-event-photo.png
LOCATION:
END:VEVENT
BEGIN:VEVENT
DTSTART;TZID=America/Chicago:20250424T170000
DTEND;TZID=America/Chicago:20250424T180000
DTSTAMP:20260421T131303
CREATED:20250225T154735Z
LAST-MODIFIED:20260114T155539Z
UID:10002163-1745514000-1745517600@handtohold.org
SUMMARY:Love & Loss Support Group for Bereaved Parents
DESCRIPTION:A support group for families who have experienced a bereavement in the NICU or after a NICU stay. We also welcome parents whose baby has been referred to palliative and/or hospice care.\n			\n				Register here
URL:https://handtohold.org/calendar/love-loss-support-group-for-bereaved-parents-7-2-2/2025-04-24/
CATEGORIES:Bereavement,Support Group
ATTACH;FMTTYPE=image/png:https://handtohold.org/wp-content/uploads/2022/08/SUPPORT-GROUP-event-photo.png
LOCATION:
END:VEVENT
BEGIN:VEVENT
DTSTART;TZID=America/Chicago:20250327T170000
DTEND;TZID=America/Chicago:20250327T180000
DTSTAMP:20260421T131303
CREATED:20250225T154735Z
LAST-MODIFIED:20260114T155539Z
UID:10002088-1743094800-1743098400@handtohold.org
SUMMARY:Love & Loss Support Group for Bereaved Parents
DESCRIPTION:A support group for families who have experienced a bereavement in the NICU or after a NICU stay. We also welcome parents whose baby has been referred to palliative and/or hospice care.\n			\n				Register here
URL:https://handtohold.org/calendar/love-loss-support-group-for-bereaved-parents-7-2-2/2025-03-27/
CATEGORIES:Bereavement,Support Group
ATTACH;FMTTYPE=image/png:https://handtohold.org/wp-content/uploads/2022/08/SUPPORT-GROUP-event-photo.png
LOCATION:
END:VEVENT
END:VCALENDAR