BEGIN:VCALENDAR
VERSION:2.0
PRODID:-//Hand to Hold - ECPv6.15.11//NONSGML v1.0//EN
CALSCALE:GREGORIAN
METHOD:PUBLISH
X-WR-CALNAME:Hand to Hold
X-ORIGINAL-URL:https://handtohold.org
X-WR-CALDESC:Events for Hand to Hold
REFRESH-INTERVAL;VALUE=DURATION:PT1H
X-Robots-Tag:noindex
X-PUBLISHED-TTL:PT1H
BEGIN:VTIMEZONE
TZID:America/Chicago
BEGIN:DAYLIGHT
TZOFFSETFROM:-0600
TZOFFSETTO:-0500
TZNAME:CDT
DTSTART:20220313T080000
END:DAYLIGHT
BEGIN:STANDARD
TZOFFSETFROM:-0500
TZOFFSETTO:-0600
TZNAME:CST
DTSTART:20221106T070000
END:STANDARD
BEGIN:DAYLIGHT
TZOFFSETFROM:-0600
TZOFFSETTO:-0500
TZNAME:CDT
DTSTART:20230312T080000
END:DAYLIGHT
BEGIN:STANDARD
TZOFFSETFROM:-0500
TZOFFSETTO:-0600
TZNAME:CST
DTSTART:20231105T070000
END:STANDARD
BEGIN:DAYLIGHT
TZOFFSETFROM:-0600
TZOFFSETTO:-0500
TZNAME:CDT
DTSTART:20240310T080000
END:DAYLIGHT
BEGIN:STANDARD
TZOFFSETFROM:-0500
TZOFFSETTO:-0600
TZNAME:CST
DTSTART:20241103T070000
END:STANDARD
END:VTIMEZONE
BEGIN:VEVENT
DTSTART;TZID=America/Chicago:20231018T113000
DTEND;TZID=America/Chicago:20231018T123000
DTSTAMP:20260419T131847
CREATED:20230706T220445Z
LAST-MODIFIED:20231113T210644Z
UID:10001475-1697628600-1697632200@handtohold.org
SUMMARY:Q&A for NICU Professionals: An Overview of Hand to Hold support
DESCRIPTION:If you are a professional working with NICU or bereaved families and want to learn more about Hand to Hold\, join us for this information session all about Hand to Hold’s services. This is an overview of Hand to Hold and our many free resources for NICU families\, as well as for those who have been through a loss in the NICU or after a NICU stay. You will have the opportunity to ask us questions about all our support\, as well as learn about our resources for NICU professionals. We look forward to meeting you! REGISTER HERE.
URL:https://handtohold.org/calendar/qa-for-nicu-professionals-an-overview-of-hand-to-hold-support-2/2023-10-18/
CATEGORIES:Webinar
ATTACH;FMTTYPE=image/png:https://handtohold.org/wp-content/uploads/2023/06/QA-1.png
END:VEVENT
END:VCALENDAR