BEGIN:VCALENDAR
VERSION:2.0
PRODID:-//Hand to Hold - ECPv6.15.11//NONSGML v1.0//EN
CALSCALE:GREGORIAN
METHOD:PUBLISH
X-WR-CALNAME:Hand to Hold
X-ORIGINAL-URL:https://handtohold.org
X-WR-CALDESC:Events for Hand to Hold
REFRESH-INTERVAL;VALUE=DURATION:PT1H
X-Robots-Tag:noindex
X-PUBLISHED-TTL:PT1H
BEGIN:VTIMEZONE
TZID:America/Chicago
BEGIN:DAYLIGHT
TZOFFSETFROM:-0600
TZOFFSETTO:-0500
TZNAME:CDT
DTSTART:20230312T080000
END:DAYLIGHT
BEGIN:STANDARD
TZOFFSETFROM:-0500
TZOFFSETTO:-0600
TZNAME:CST
DTSTART:20231105T070000
END:STANDARD
BEGIN:DAYLIGHT
TZOFFSETFROM:-0600
TZOFFSETTO:-0500
TZNAME:CDT
DTSTART:20240310T080000
END:DAYLIGHT
BEGIN:STANDARD
TZOFFSETFROM:-0500
TZOFFSETTO:-0600
TZNAME:CST
DTSTART:20241103T070000
END:STANDARD
BEGIN:DAYLIGHT
TZOFFSETFROM:-0600
TZOFFSETTO:-0500
TZNAME:CDT
DTSTART:20250309T080000
END:DAYLIGHT
BEGIN:STANDARD
TZOFFSETFROM:-0500
TZOFFSETTO:-0600
TZNAME:CST
DTSTART:20251102T070000
END:STANDARD
END:VTIMEZONE
BEGIN:VEVENT
DTSTART;TZID=America/Chicago:20241017T110000
DTEND;TZID=America/Chicago:20241017T120000
DTSTAMP:20260422T172837
CREATED:20240722T182117Z
LAST-MODIFIED:20240722T182833Z
UID:10001841-1729162800-1729166400@handtohold.org
SUMMARY:Q&A for NICU Professionals
DESCRIPTION:Join us for an overview of Hand to Hold’s support services\, including in-person and virtual support programs\, and how we can help you support the families in your care.\n			\n				REGISTER
URL:https://handtohold.org/calendar/qa-for-nicu-professionals-2/2024-10-17/
CATEGORIES:Support Group,Webinar
ATTACH;FMTTYPE=image/png:https://handtohold.org/wp-content/uploads/2022/09/QA-support-overview.png
END:VEVENT
END:VCALENDAR