BEGIN:VCALENDAR
VERSION:2.0
PRODID:-//Hand to Hold - ECPv6.15.11//NONSGML v1.0//EN
CALSCALE:GREGORIAN
METHOD:PUBLISH
X-ORIGINAL-URL:https://handtohold.org
X-WR-CALDESC:Events for Hand to Hold
REFRESH-INTERVAL;VALUE=DURATION:PT1H
X-Robots-Tag:noindex
X-PUBLISHED-TTL:PT1H
BEGIN:VTIMEZONE
TZID:America/Chicago
BEGIN:DAYLIGHT
TZOFFSETFROM:-0600
TZOFFSETTO:-0500
TZNAME:CDT
DTSTART:20250309T080000
END:DAYLIGHT
BEGIN:STANDARD
TZOFFSETFROM:-0500
TZOFFSETTO:-0600
TZNAME:CST
DTSTART:20251102T070000
END:STANDARD
BEGIN:DAYLIGHT
TZOFFSETFROM:-0600
TZOFFSETTO:-0500
TZNAME:CDT
DTSTART:20260308T080000
END:DAYLIGHT
BEGIN:STANDARD
TZOFFSETFROM:-0500
TZOFFSETTO:-0600
TZNAME:CST
DTSTART:20261101T070000
END:STANDARD
BEGIN:DAYLIGHT
TZOFFSETFROM:-0600
TZOFFSETTO:-0500
TZNAME:CDT
DTSTART:20270314T080000
END:DAYLIGHT
BEGIN:STANDARD
TZOFFSETFROM:-0500
TZOFFSETTO:-0600
TZNAME:CST
DTSTART:20271107T070000
END:STANDARD
END:VTIMEZONE
BEGIN:VEVENT
DTSTART;TZID=America/Chicago:20260424T120000
DTEND;TZID=America/Chicago:20260424T120000
DTSTAMP:20260421T192930
CREATED:20250113T192434Z
LAST-MODIFIED:20260421T202143Z
UID:10002690-1777032000-1777032000@handtohold.org
SUMMARY:Support for Black NICU Families
DESCRIPTION:A safe space for black NICU families to come and connect through the shared experience of a NICU stay\, and life after the NICU. In this space\, we will discuss the differences of being black in the NICU and the common obstacles we face as black families. We will talk about the micro aggressions we face\, advocating for your baby and the on going ups and downs in the NICU.\n			\n				REGISTER HERE
URL:https://handtohold.org/calendar/support-for-black-nicu-families/2026-04-24/
LOCATION:
CATEGORIES:Support Group
ATTACH;FMTTYPE=image/png:https://handtohold.org/wp-content/uploads/2022/08/SUPPORT-GROUP-event-photo-2.png
END:VEVENT
BEGIN:VEVENT
DTSTART;TZID=America/Chicago:20260425T100000
DTEND;TZID=America/Chicago:20260425T140000
DTSTAMP:20260421T192930
CREATED:20260312T150956Z
LAST-MODIFIED:20260312T151001Z
UID:10002691-1777111200-1777125600@handtohold.org
SUMMARY:NICU Family Celebration
DESCRIPTION:The NICU Family Celebration is a free\, family-friendly event including joyful moments\, remembrance\, activities for all ages\, and spaces where every NICU story is honored with care.\n\n\nRegister today and be part of a day centered on NICU families and strengthened by the community around them.\nwww.handtohold.org/nicucelebration\n\n			\n				REGISTER TODAY
URL:https://handtohold.org/calendar/nicu-family-celebration/
LOCATION:Branch Park Pavilion\, 2201 Aldrich Street\, Austin\, TX\, 78723\, United States
CATEGORIES:Local Events
ATTACH;FMTTYPE=image/png:https://handtohold.org/wp-content/uploads/2026/02/NICU-Family-Celebration-mobile-1.png
END:VEVENT
BEGIN:VEVENT
DTSTART;TZID=America/Chicago:20260427T183000
DTEND;TZID=America/Chicago:20260427T193000
DTSTAMP:20260421T192930
CREATED:20250113T175053Z
LAST-MODIFIED:20260421T194613Z
UID:10002646-1777314600-1777318200@handtohold.org
SUMMARY:NICU Families Support Group
DESCRIPTION:The NICU Families Support Group is for families learning to navigate life in the NICU\, or life after a NICU stay.\n			\n				REGISTER HERE
URL:https://handtohold.org/calendar/nicu-families-support-group/2026-04-27/
LOCATION:
CATEGORIES:Support Group
ATTACH;FMTTYPE=image/png:https://handtohold.org/wp-content/uploads/2023/03/NICU-Moms.png
END:VEVENT
BEGIN:VEVENT
DTSTART;TZID=America/Chicago:20260428T120000
DTEND;TZID=America/Chicago:20260428T130000
DTSTAMP:20260421T192930
CREATED:20250113T185731Z
LAST-MODIFIED:20260224T194632Z
UID:10002655-1777377600-1777381200@handtohold.org
SUMMARY:Support for Black NICU Families
DESCRIPTION:A safe space for black NICU families to come and connect through the shared experience of a NICU stay\, and life after the NICU. In this space\, we will discuss the differences of being black in the NICU and the common obstacles we face as black families. We will talk about the micro aggressions we face\, advocating for your baby and the on going ups and downs in the NICU.\n			\n				REGISTER HERE
URL:https://handtohold.org/calendar/support-fro-black-nicu-parents-2-2-2-2-2-2-2-2-3/2026-04-28/
LOCATION:
CATEGORIES:Support Group
ATTACH;FMTTYPE=image/png:https://handtohold.org/wp-content/uploads/2022/08/SUPPORT-GROUP-event-photo-2.png
END:VEVENT
BEGIN:VEVENT
DTSTART;TZID=America/Chicago:20260428T120000
DTEND;TZID=America/Chicago:20260428T130000
DTSTAMP:20260421T192930
CREATED:20250227T154735Z
LAST-MODIFIED:20260421T194234Z
UID:10002664-1777377600-1777381200@handtohold.org
SUMMARY:NICU Families Support Group
DESCRIPTION:The NICU Families Support Group is for families learning to navigate life in the NICU\, or life after a NICU stay.\n			\n				REGISTER HERE
URL:https://handtohold.org/calendar/nicu-moms-support-group-2-2-2-2/2026-04-28/
LOCATION:
CATEGORIES:Support Group
ATTACH;FMTTYPE=image/png:https://handtohold.org/wp-content/uploads/2023/03/NICU-Moms.png
END:VEVENT
BEGIN:VEVENT
DTSTART;TZID=America/Chicago:20260430T120000
DTEND;TZID=America/Chicago:20260430T130000
DTSTAMP:20260421T192930
CREATED:20240923T180627Z
LAST-MODIFIED:20260421T201917Z
UID:10002673-1777550400-1777554000@handtohold.org
SUMMARY:High-Risk Pregnancy Support Group
DESCRIPTION:The High-Risk Pregnancy Support Group is a group for moms and mothers-to-be who may have increased health risks during pregnancy.\n			\n				REGISTER HERE
URL:https://handtohold.org/calendar/high-risk-pregnancy-support-group-3-2-2-2-2-3-2/2026-04-30/
LOCATION:
CATEGORIES:Support Group
ATTACH;FMTTYPE=image/png:https://handtohold.org/wp-content/uploads/2022/08/SUPPORT-GROUP-event-photo-3.png
END:VEVENT
BEGIN:VEVENT
DTSTART;TZID=America/Chicago:20260430T120000
DTEND;TZID=America/Chicago:20260430T130000
DTSTAMP:20260421T192930
CREATED:20240923T182252Z
LAST-MODIFIED:20260421T201547Z
UID:10002682-1777550400-1777554000@handtohold.org
SUMMARY:Cafecito con Familias NICU
DESCRIPTION:Un espacio seguro para conectarse con otros padres\, compartir su experiencia\, hacer preguntas o simplemente escuchar y recibir apoyo.\n			\n				Registrarse aquí
URL:https://handtohold.org/calendar/cafecito-con-familias-nicu-5-2-2-2-3-2/2026-04-30/
LOCATION:
CATEGORIES:Español,Support Group
ATTACH;FMTTYPE=image/png:https://handtohold.org/wp-content/uploads/2024/02/Cafecito.png
END:VEVENT
BEGIN:VEVENT
DTSTART;TZID=America/Chicago:20260501T120000
DTEND;TZID=America/Chicago:20260501T120000
DTSTAMP:20260421T192930
CREATED:20250113T192434Z
LAST-MODIFIED:20260421T202143Z
UID:10002694-1777636800-1777636800@handtohold.org
SUMMARY:Support for Black NICU Families
DESCRIPTION:A safe space for black NICU families to come and connect through the shared experience of a NICU stay\, and life after the NICU. In this space\, we will discuss the differences of being black in the NICU and the common obstacles we face as black families. We will talk about the micro aggressions we face\, advocating for your baby and the on going ups and downs in the NICU.\n			\n				REGISTER HERE
URL:https://handtohold.org/calendar/support-for-black-nicu-families/2026-05-01/
LOCATION:
CATEGORIES:Support Group
ATTACH;FMTTYPE=image/png:https://handtohold.org/wp-content/uploads/2022/08/SUPPORT-GROUP-event-photo-2.png
END:VEVENT
BEGIN:VEVENT
DTSTART;TZID=America/Chicago:20260504T183000
DTEND;TZID=America/Chicago:20260504T193000
DTSTAMP:20260421T192930
CREATED:20250113T175053Z
LAST-MODIFIED:20260421T194613Z
UID:10002695-1777919400-1777923000@handtohold.org
SUMMARY:NICU Families Support Group
DESCRIPTION:The NICU Families Support Group is for families learning to navigate life in the NICU\, or life after a NICU stay.\n			\n				REGISTER HERE
URL:https://handtohold.org/calendar/nicu-families-support-group/2026-05-04/
LOCATION:
CATEGORIES:Support Group
ATTACH;FMTTYPE=image/png:https://handtohold.org/wp-content/uploads/2023/03/NICU-Moms.png
END:VEVENT
BEGIN:VEVENT
DTSTART;TZID=America/Chicago:20260505T120000
DTEND;TZID=America/Chicago:20260505T130000
DTSTAMP:20260421T192930
CREATED:20250227T154735Z
LAST-MODIFIED:20260421T194234Z
UID:10002699-1777982400-1777986000@handtohold.org
SUMMARY:NICU Families Support Group
DESCRIPTION:The NICU Families Support Group is for families learning to navigate life in the NICU\, or life after a NICU stay.\n			\n				REGISTER HERE
URL:https://handtohold.org/calendar/nicu-moms-support-group-2-2-2-2/2026-05-05/
LOCATION:
CATEGORIES:Support Group
ATTACH;FMTTYPE=image/png:https://handtohold.org/wp-content/uploads/2023/03/NICU-Moms.png
END:VEVENT
BEGIN:VEVENT
DTSTART;TZID=America/Chicago:20260507T120000
DTEND;TZID=America/Chicago:20260507T130000
DTSTAMP:20260421T192930
CREATED:20240923T180627Z
LAST-MODIFIED:20260421T201917Z
UID:10002710-1778155200-1778158800@handtohold.org
SUMMARY:High-Risk Pregnancy Support Group
DESCRIPTION:The High-Risk Pregnancy Support Group is a group for moms and mothers-to-be who may have increased health risks during pregnancy.\n			\n				REGISTER HERE
URL:https://handtohold.org/calendar/high-risk-pregnancy-support-group-3-2-2-2-2-3-2/2026-05-07/
LOCATION:
CATEGORIES:Support Group
ATTACH;FMTTYPE=image/png:https://handtohold.org/wp-content/uploads/2022/08/SUPPORT-GROUP-event-photo-3.png
END:VEVENT
BEGIN:VEVENT
DTSTART;TZID=America/Chicago:20260507T120000
DTEND;TZID=America/Chicago:20260507T130000
DTSTAMP:20260421T192930
CREATED:20240923T182252Z
LAST-MODIFIED:20260421T201547Z
UID:10002705-1778155200-1778158800@handtohold.org
SUMMARY:Cafecito con Familias NICU
DESCRIPTION:Un espacio seguro para conectarse con otros padres\, compartir su experiencia\, hacer preguntas o simplemente escuchar y recibir apoyo.\n			\n				Registrarse aquí
URL:https://handtohold.org/calendar/cafecito-con-familias-nicu-5-2-2-2-3-2/2026-05-07/
LOCATION:
CATEGORIES:Español,Support Group
ATTACH;FMTTYPE=image/png:https://handtohold.org/wp-content/uploads/2024/02/Cafecito.png
END:VEVENT
BEGIN:VEVENT
DTSTART;TZID=America/Chicago:20260508T120000
DTEND;TZID=America/Chicago:20260508T120000
DTSTAMP:20260421T192930
CREATED:20250113T192434Z
LAST-MODIFIED:20260421T202143Z
UID:10002715-1778241600-1778241600@handtohold.org
SUMMARY:Support for Black NICU Families
DESCRIPTION:A safe space for black NICU families to come and connect through the shared experience of a NICU stay\, and life after the NICU. In this space\, we will discuss the differences of being black in the NICU and the common obstacles we face as black families. We will talk about the micro aggressions we face\, advocating for your baby and the on going ups and downs in the NICU.\n			\n				REGISTER HERE
URL:https://handtohold.org/calendar/support-for-black-nicu-families/2026-05-08/
LOCATION:
CATEGORIES:Support Group
ATTACH;FMTTYPE=image/png:https://handtohold.org/wp-content/uploads/2022/08/SUPPORT-GROUP-event-photo-2.png
END:VEVENT
BEGIN:VEVENT
DTSTART;TZID=America/Chicago:20260511T183000
DTEND;TZID=America/Chicago:20260511T193000
DTSTAMP:20260421T192930
CREATED:20250113T175053Z
LAST-MODIFIED:20260421T194613Z
UID:10002696-1778524200-1778527800@handtohold.org
SUMMARY:NICU Families Support Group
DESCRIPTION:The NICU Families Support Group is for families learning to navigate life in the NICU\, or life after a NICU stay.\n			\n				REGISTER HERE
URL:https://handtohold.org/calendar/nicu-families-support-group/2026-05-11/
LOCATION:
CATEGORIES:Support Group
ATTACH;FMTTYPE=image/png:https://handtohold.org/wp-content/uploads/2023/03/NICU-Moms.png
END:VEVENT
BEGIN:VEVENT
DTSTART;TZID=America/Chicago:20260512T120000
DTEND;TZID=America/Chicago:20260512T130000
DTSTAMP:20260421T192930
CREATED:20250227T154735Z
LAST-MODIFIED:20260421T194234Z
UID:10002700-1778587200-1778590800@handtohold.org
SUMMARY:NICU Families Support Group
DESCRIPTION:The NICU Families Support Group is for families learning to navigate life in the NICU\, or life after a NICU stay.\n			\n				REGISTER HERE
URL:https://handtohold.org/calendar/nicu-moms-support-group-2-2-2-2/2026-05-12/
LOCATION:
CATEGORIES:Support Group
ATTACH;FMTTYPE=image/png:https://handtohold.org/wp-content/uploads/2023/03/NICU-Moms.png
END:VEVENT
BEGIN:VEVENT
DTSTART;TZID=America/Chicago:20260514T120000
DTEND;TZID=America/Chicago:20260514T130000
DTSTAMP:20260421T192930
CREATED:20240923T180627Z
LAST-MODIFIED:20260421T201917Z
UID:10002711-1778760000-1778763600@handtohold.org
SUMMARY:High-Risk Pregnancy Support Group
DESCRIPTION:The High-Risk Pregnancy Support Group is a group for moms and mothers-to-be who may have increased health risks during pregnancy.\n			\n				REGISTER HERE
URL:https://handtohold.org/calendar/high-risk-pregnancy-support-group-3-2-2-2-2-3-2/2026-05-14/
LOCATION:
CATEGORIES:Support Group
ATTACH;FMTTYPE=image/png:https://handtohold.org/wp-content/uploads/2022/08/SUPPORT-GROUP-event-photo-3.png
END:VEVENT
BEGIN:VEVENT
DTSTART;TZID=America/Chicago:20260514T120000
DTEND;TZID=America/Chicago:20260514T130000
DTSTAMP:20260421T192930
CREATED:20240923T182252Z
LAST-MODIFIED:20260421T201547Z
UID:10002706-1778760000-1778763600@handtohold.org
SUMMARY:Cafecito con Familias NICU
DESCRIPTION:Un espacio seguro para conectarse con otros padres\, compartir su experiencia\, hacer preguntas o simplemente escuchar y recibir apoyo.\n			\n				Registrarse aquí
URL:https://handtohold.org/calendar/cafecito-con-familias-nicu-5-2-2-2-3-2/2026-05-14/
LOCATION:
CATEGORIES:Español,Support Group
ATTACH;FMTTYPE=image/png:https://handtohold.org/wp-content/uploads/2024/02/Cafecito.png
END:VEVENT
BEGIN:VEVENT
DTSTART;TZID=America/Chicago:20260515T120000
DTEND;TZID=America/Chicago:20260515T120000
DTSTAMP:20260421T192930
CREATED:20250113T192434Z
LAST-MODIFIED:20260421T202143Z
UID:10002716-1778846400-1778846400@handtohold.org
SUMMARY:Support for Black NICU Families
DESCRIPTION:A safe space for black NICU families to come and connect through the shared experience of a NICU stay\, and life after the NICU. In this space\, we will discuss the differences of being black in the NICU and the common obstacles we face as black families. We will talk about the micro aggressions we face\, advocating for your baby and the on going ups and downs in the NICU.\n			\n				REGISTER HERE
URL:https://handtohold.org/calendar/support-for-black-nicu-families/2026-05-15/
LOCATION:
CATEGORIES:Support Group
ATTACH;FMTTYPE=image/png:https://handtohold.org/wp-content/uploads/2022/08/SUPPORT-GROUP-event-photo-2.png
END:VEVENT
BEGIN:VEVENT
DTSTART;TZID=America/Chicago:20260518T183000
DTEND;TZID=America/Chicago:20260518T193000
DTSTAMP:20260421T192930
CREATED:20250113T175053Z
LAST-MODIFIED:20260421T194613Z
UID:10002697-1779129000-1779132600@handtohold.org
SUMMARY:NICU Families Support Group
DESCRIPTION:The NICU Families Support Group is for families learning to navigate life in the NICU\, or life after a NICU stay.\n			\n				REGISTER HERE
URL:https://handtohold.org/calendar/nicu-families-support-group/2026-05-18/
LOCATION:
CATEGORIES:Support Group
ATTACH;FMTTYPE=image/png:https://handtohold.org/wp-content/uploads/2023/03/NICU-Moms.png
END:VEVENT
BEGIN:VEVENT
DTSTART;TZID=America/Chicago:20260519T120000
DTEND;TZID=America/Chicago:20260519T130000
DTSTAMP:20260421T192930
CREATED:20250227T154735Z
LAST-MODIFIED:20260421T194234Z
UID:10002701-1779192000-1779195600@handtohold.org
SUMMARY:NICU Families Support Group
DESCRIPTION:The NICU Families Support Group is for families learning to navigate life in the NICU\, or life after a NICU stay.\n			\n				REGISTER HERE
URL:https://handtohold.org/calendar/nicu-moms-support-group-2-2-2-2/2026-05-19/
LOCATION:
CATEGORIES:Support Group
ATTACH;FMTTYPE=image/png:https://handtohold.org/wp-content/uploads/2023/03/NICU-Moms.png
END:VEVENT
BEGIN:VEVENT
DTSTART;TZID=America/Chicago:20260521T120000
DTEND;TZID=America/Chicago:20260521T130000
DTSTAMP:20260421T192930
CREATED:20240923T180627Z
LAST-MODIFIED:20260421T201917Z
UID:10002712-1779364800-1779368400@handtohold.org
SUMMARY:High-Risk Pregnancy Support Group
DESCRIPTION:The High-Risk Pregnancy Support Group is a group for moms and mothers-to-be who may have increased health risks during pregnancy.\n			\n				REGISTER HERE
URL:https://handtohold.org/calendar/high-risk-pregnancy-support-group-3-2-2-2-2-3-2/2026-05-21/
LOCATION:
CATEGORIES:Support Group
ATTACH;FMTTYPE=image/png:https://handtohold.org/wp-content/uploads/2022/08/SUPPORT-GROUP-event-photo-3.png
END:VEVENT
BEGIN:VEVENT
DTSTART;TZID=America/Chicago:20260521T120000
DTEND;TZID=America/Chicago:20260521T130000
DTSTAMP:20260421T192930
CREATED:20240923T182252Z
LAST-MODIFIED:20260421T201547Z
UID:10002707-1779364800-1779368400@handtohold.org
SUMMARY:Cafecito con Familias NICU
DESCRIPTION:Un espacio seguro para conectarse con otros padres\, compartir su experiencia\, hacer preguntas o simplemente escuchar y recibir apoyo.\n			\n				Registrarse aquí
URL:https://handtohold.org/calendar/cafecito-con-familias-nicu-5-2-2-2-3-2/2026-05-21/
LOCATION:
CATEGORIES:Español,Support Group
ATTACH;FMTTYPE=image/png:https://handtohold.org/wp-content/uploads/2024/02/Cafecito.png
END:VEVENT
BEGIN:VEVENT
DTSTART;TZID=America/Chicago:20260522T120000
DTEND;TZID=America/Chicago:20260522T120000
DTSTAMP:20260421T192930
CREATED:20250113T192434Z
LAST-MODIFIED:20260421T202143Z
UID:10002717-1779451200-1779451200@handtohold.org
SUMMARY:Support for Black NICU Families
DESCRIPTION:A safe space for black NICU families to come and connect through the shared experience of a NICU stay\, and life after the NICU. In this space\, we will discuss the differences of being black in the NICU and the common obstacles we face as black families. We will talk about the micro aggressions we face\, advocating for your baby and the on going ups and downs in the NICU.\n			\n				REGISTER HERE
URL:https://handtohold.org/calendar/support-for-black-nicu-families/2026-05-22/
LOCATION:
CATEGORIES:Support Group
ATTACH;FMTTYPE=image/png:https://handtohold.org/wp-content/uploads/2022/08/SUPPORT-GROUP-event-photo-2.png
END:VEVENT
BEGIN:VEVENT
DTSTART;TZID=America/Chicago:20260525T183000
DTEND;TZID=America/Chicago:20260525T193000
DTSTAMP:20260421T192930
CREATED:20250113T175053Z
LAST-MODIFIED:20260421T194613Z
UID:10002698-1779733800-1779737400@handtohold.org
SUMMARY:NICU Families Support Group
DESCRIPTION:The NICU Families Support Group is for families learning to navigate life in the NICU\, or life after a NICU stay.\n			\n				REGISTER HERE
URL:https://handtohold.org/calendar/nicu-families-support-group/2026-05-25/
LOCATION:
CATEGORIES:Support Group
ATTACH;FMTTYPE=image/png:https://handtohold.org/wp-content/uploads/2023/03/NICU-Moms.png
END:VEVENT
BEGIN:VEVENT
DTSTART;TZID=America/Chicago:20260526T120000
DTEND;TZID=America/Chicago:20260526T130000
DTSTAMP:20260421T192930
CREATED:20250227T154735Z
LAST-MODIFIED:20260421T194234Z
UID:10002702-1779796800-1779800400@handtohold.org
SUMMARY:NICU Families Support Group
DESCRIPTION:The NICU Families Support Group is for families learning to navigate life in the NICU\, or life after a NICU stay.\n			\n				REGISTER HERE
URL:https://handtohold.org/calendar/nicu-moms-support-group-2-2-2-2/2026-05-26/
LOCATION:
CATEGORIES:Support Group
ATTACH;FMTTYPE=image/png:https://handtohold.org/wp-content/uploads/2023/03/NICU-Moms.png
END:VEVENT
BEGIN:VEVENT
DTSTART;TZID=America/Chicago:20260528T120000
DTEND;TZID=America/Chicago:20260528T130000
DTSTAMP:20260421T192930
CREATED:20240923T180627Z
LAST-MODIFIED:20260421T201917Z
UID:10002713-1779969600-1779973200@handtohold.org
SUMMARY:High-Risk Pregnancy Support Group
DESCRIPTION:The High-Risk Pregnancy Support Group is a group for moms and mothers-to-be who may have increased health risks during pregnancy.\n			\n				REGISTER HERE
URL:https://handtohold.org/calendar/high-risk-pregnancy-support-group-3-2-2-2-2-3-2/2026-05-28/
LOCATION:
CATEGORIES:Support Group
ATTACH;FMTTYPE=image/png:https://handtohold.org/wp-content/uploads/2022/08/SUPPORT-GROUP-event-photo-3.png
END:VEVENT
BEGIN:VEVENT
DTSTART;TZID=America/Chicago:20260528T120000
DTEND;TZID=America/Chicago:20260528T130000
DTSTAMP:20260421T192930
CREATED:20240923T182252Z
LAST-MODIFIED:20260421T201547Z
UID:10002708-1779969600-1779973200@handtohold.org
SUMMARY:Cafecito con Familias NICU
DESCRIPTION:Un espacio seguro para conectarse con otros padres\, compartir su experiencia\, hacer preguntas o simplemente escuchar y recibir apoyo.\n			\n				Registrarse aquí
URL:https://handtohold.org/calendar/cafecito-con-familias-nicu-5-2-2-2-3-2/2026-05-28/
LOCATION:
CATEGORIES:Español,Support Group
ATTACH;FMTTYPE=image/png:https://handtohold.org/wp-content/uploads/2024/02/Cafecito.png
END:VEVENT
BEGIN:VEVENT
DTSTART;TZID=America/Chicago:20260529T120000
DTEND;TZID=America/Chicago:20260529T120000
DTSTAMP:20260421T192930
CREATED:20250113T192434Z
LAST-MODIFIED:20260421T202143Z
UID:10002718-1780056000-1780056000@handtohold.org
SUMMARY:Support for Black NICU Families
DESCRIPTION:A safe space for black NICU families to come and connect through the shared experience of a NICU stay\, and life after the NICU. In this space\, we will discuss the differences of being black in the NICU and the common obstacles we face as black families. We will talk about the micro aggressions we face\, advocating for your baby and the on going ups and downs in the NICU.\n			\n				REGISTER HERE
URL:https://handtohold.org/calendar/support-for-black-nicu-families/2026-05-29/
LOCATION:
CATEGORIES:Support Group
ATTACH;FMTTYPE=image/png:https://handtohold.org/wp-content/uploads/2022/08/SUPPORT-GROUP-event-photo-2.png
END:VEVENT
BEGIN:VEVENT
DTSTART;TZID=America/Chicago:20260601T183000
DTEND;TZID=America/Chicago:20260601T193000
DTSTAMP:20260421T192930
CREATED:20250113T175053Z
LAST-MODIFIED:20260421T194613Z
UID:10002704-1780338600-1780342200@handtohold.org
SUMMARY:NICU Families Support Group
DESCRIPTION:The NICU Families Support Group is for families learning to navigate life in the NICU\, or life after a NICU stay.\n			\n				REGISTER HERE
URL:https://handtohold.org/calendar/nicu-families-support-group/2026-06-01/
LOCATION:
CATEGORIES:Support Group
ATTACH;FMTTYPE=image/png:https://handtohold.org/wp-content/uploads/2023/03/NICU-Moms.png
END:VEVENT
BEGIN:VEVENT
DTSTART;TZID=America/Chicago:20260602T120000
DTEND;TZID=America/Chicago:20260602T130000
DTSTAMP:20260421T192930
CREATED:20250227T154735Z
LAST-MODIFIED:20260421T194234Z
UID:10002703-1780401600-1780405200@handtohold.org
SUMMARY:NICU Families Support Group
DESCRIPTION:The NICU Families Support Group is for families learning to navigate life in the NICU\, or life after a NICU stay.\n			\n				REGISTER HERE
URL:https://handtohold.org/calendar/nicu-moms-support-group-2-2-2-2/2026-06-02/
LOCATION:
CATEGORIES:Support Group
ATTACH;FMTTYPE=image/png:https://handtohold.org/wp-content/uploads/2023/03/NICU-Moms.png
END:VEVENT
END:VCALENDAR