BEGIN:VCALENDAR
VERSION:2.0
PRODID:-//Hand to Hold - ECPv6.15.11//NONSGML v1.0//EN
CALSCALE:GREGORIAN
METHOD:PUBLISH
X-WR-CALNAME:Hand to Hold
X-ORIGINAL-URL:https://handtohold.org
X-WR-CALDESC:Events for Hand to Hold
REFRESH-INTERVAL;VALUE=DURATION:PT1H
X-Robots-Tag:noindex
X-PUBLISHED-TTL:PT1H
BEGIN:VTIMEZONE
TZID:America/Chicago
BEGIN:DAYLIGHT
TZOFFSETFROM:-0600
TZOFFSETTO:-0500
TZNAME:CDT
DTSTART:20230312T080000
END:DAYLIGHT
BEGIN:STANDARD
TZOFFSETFROM:-0500
TZOFFSETTO:-0600
TZNAME:CST
DTSTART:20231105T070000
END:STANDARD
BEGIN:DAYLIGHT
TZOFFSETFROM:-0600
TZOFFSETTO:-0500
TZNAME:CDT
DTSTART:20240310T080000
END:DAYLIGHT
BEGIN:STANDARD
TZOFFSETFROM:-0500
TZOFFSETTO:-0600
TZNAME:CST
DTSTART:20241103T070000
END:STANDARD
BEGIN:DAYLIGHT
TZOFFSETFROM:-0600
TZOFFSETTO:-0500
TZNAME:CDT
DTSTART:20250309T080000
END:DAYLIGHT
BEGIN:STANDARD
TZOFFSETFROM:-0500
TZOFFSETTO:-0600
TZNAME:CST
DTSTART:20251102T070000
END:STANDARD
END:VTIMEZONE
BEGIN:VEVENT
DTSTART;TZID=America/Chicago:20240429T120000
DTEND;TZID=America/Chicago:20240429T130000
DTSTAMP:20260421T172447
CREATED:20240425T182149Z
LAST-MODIFIED:20240425T182233Z
UID:10001728-1714392000-1714395600@handtohold.org
SUMMARY:NICU Parents Support Group - Current & Graduate Parents
DESCRIPTION:The NICU Parents Support Group is a group for parents learning how to navigate life in the NICU\, or life after a NICU stay.\n			\n				REGISTER HERE
URL:https://handtohold.org/calendar/nicu-parents-support-group-current-graduate-parents-3-2-3/2024-04-29/
CATEGORIES:Support Group
ATTACH;FMTTYPE=image/png:https://handtohold.org/wp-content/uploads/2022/08/SUPPORT-GROUP-event-photo-4.png
END:VEVENT
BEGIN:VEVENT
DTSTART;TZID=America/Chicago:20240429T183000
DTEND;TZID=America/Chicago:20240429T193000
DTSTAMP:20260421T172447
CREATED:20240328T164949Z
LAST-MODIFIED:20240328T165113Z
UID:10001718-1714415400-1714419000@handtohold.org
SUMMARY:NICU Moms Support Group - NICU Graduate Moms
DESCRIPTION:The NICU Moms Support Group for NICU Graduate Moms is a group is for families learning how to navigate life after a NICU stay.\n  \n \n			\n				REGISTER HERE
URL:https://handtohold.org/calendar/nicu-moms-support-group-nicu-graduate-moms-3-2/2024-04-29/
CATEGORIES:Support Group
ATTACH;FMTTYPE=image/png:https://handtohold.org/wp-content/uploads/2023/03/NICU-Moms.png
END:VEVENT
BEGIN:VEVENT
DTSTART;TZID=America/Chicago:20240430T120000
DTEND;TZID=America/Chicago:20240430T130000
DTSTAMP:20260421T172447
CREATED:20240328T172332Z
LAST-MODIFIED:20240328T172411Z
UID:10001680-1714478400-1714482000@handtohold.org
SUMMARY:NICU Moms Support Group - Current NICU Moms
DESCRIPTION:The NICU Moms Support Group is a group for moms learning how to navigate life in the NICU now.\n			\n				REGISTER HERE
URL:https://handtohold.org/calendar/nicu-moms-support-group-current-nicu-moms-2-2-2/2024-04-30/
CATEGORIES:Support Group
ATTACH;FMTTYPE=image/png:https://handtohold.org/wp-content/uploads/2023/03/NICU-Moms.png
END:VEVENT
BEGIN:VEVENT
DTSTART;TZID=America/Chicago:20240430T190000
DTEND;TZID=America/Chicago:20240430T200000
DTSTAMP:20260421T172447
CREATED:20240328T173145Z
LAST-MODIFIED:20240328T173232Z
UID:10001707-1714503600-1714507200@handtohold.org
SUMMARY:Support for Black NICU Parents
DESCRIPTION:A safe space for black NICU parents to come and connect through the shared experience of a NICU stay\, and life after the NICU. In this space\, we will discuss the differences of being black in the NICU and the common obstacles we face as black parents. We will talk about the micro aggressions we face\, advocating for your baby and the on going ups and downs in the NICU.\n			\n				REGISTER HERE
URL:https://handtohold.org/calendar/support-fro-black-nicu-parents-2-2-2-2/
CATEGORIES:Support Group
ATTACH;FMTTYPE=image/png:https://handtohold.org/wp-content/uploads/2022/08/SUPPORT-GROUP-event-photo-2.png
END:VEVENT
BEGIN:VEVENT
DTSTART;TZID=America/Chicago:20240502T120000
DTEND;TZID=America/Chicago:20240502T130000
DTSTAMP:20260421T172447
CREATED:20240328T174817Z
LAST-MODIFIED:20240328T180232Z
UID:10001741-1714651200-1714654800@handtohold.org
SUMMARY:High-Risk Pregnancy Support Group
DESCRIPTION:The High-Risk Pregnancy Support Group is a group for moms and mothers-to-be who may have increased health risks during pregnancy.\n			\n				REGISTER HERE
URL:https://handtohold.org/calendar/high-risk-pregnancy-support-group-3-2-2-2/2024-05-02/
CATEGORIES:Support Group
ATTACH;FMTTYPE=image/png:https://handtohold.org/wp-content/uploads/2022/08/SUPPORT-GROUP-event-photo-3.png
END:VEVENT
BEGIN:VEVENT
DTSTART;TZID=America/Chicago:20240502T120000
DTEND;TZID=America/Chicago:20240502T130000
DTSTAMP:20260421T172447
CREATED:20240415T205820Z
LAST-MODIFIED:20240415T210105Z
UID:10001750-1714651200-1714654800@handtohold.org
SUMMARY:Cafecito con Familias NICU
DESCRIPTION:Un espacio seguro para conectarse con otros padres\, compartir su experiencia\, hacer preguntas o simplemente escuchar y recibir apoyo.\n			\n				Registrarse aquí
URL:https://handtohold.org/calendar/cafecito-con-familias-nicu-5-2-2/2024-05-02/
CATEGORIES:Español,Support Group
ATTACH;FMTTYPE=image/png:https://handtohold.org/wp-content/uploads/2024/02/Cafecito.png
END:VEVENT
END:VCALENDAR